BEGIN:VCALENDAR
VERSION:2.0
PRODID:-//wp-events-plugin.com//7.2.3.1//EN
TZID:Europe/Stockholm
X-WR-TIMEZONE:Europe/Stockholm
BEGIN:VEVENT
UID:272@julitasockenrad.se
DTSTART;TZID=Europe/Stockholm:20260926T100000
DTEND;TZID=Europe/Stockholm:20260926T160000
DTSTAMP:20260420T194308Z
URL:https://www.julitasockenrad.se/evenemang/kaninhoppningstavling-26-sept
 ember/
SUMMARY:Kaninhoppningstävling 26 september
DESCRIPTION:Välkommen att titta på kaninhoppningstävling vid Julita skol
 a den 26 september. Vi tävlar på krokig bana klockan 10.00 - ca16.00.\n\
 nArrangör Sörmlands Kaninhoppare
LOCATION:Julita skola\, Skolvägen 3\,  Julita\, Sörmland\, 643 60\, Sveri
 ge
X-APPLE-STRUCTURED-LOCATION;VALUE=URI;X-ADDRESS=Skolvägen 3\,  Julita\, S
 örmland\, 643 60\, Sverige;X-APPLE-RADIUS=100;X-TITLE=Julita skola:geo:0,
 0
END:VEVENT
BEGIN:VTIMEZONE
TZID:Europe/Stockholm
X-LIC-LOCATION:Europe/Stockholm
BEGIN:DAYLIGHT
DTSTART:20260329T030000
TZOFFSETFROM:+0100
TZOFFSETTO:+0200
TZNAME:CEST
END:DAYLIGHT
END:VTIMEZONE
END:VCALENDAR