BEGIN:VCALENDAR
VERSION:2.0
PRODID:-//wp-events-plugin.com//7.2.3.1//EN
TZID:Europe/Stockholm
X-WR-TIMEZONE:Europe/Stockholm
BEGIN:VEVENT
UID:270@julitasockenrad.se
DTSTART;TZID=Europe/Stockholm:20260815T100000
DTEND;TZID=Europe/Stockholm:20260815T170000
DTSTAMP:20260420T194125Z
URL:https://www.julitasockenrad.se/evenemang/kaninhoppningstavling-den-15-
 augusti/
SUMMARY:Kaninhoppningstävling den 15 augusti
DESCRIPTION:Välkommen att titta på kaninhoppningstävling vid Julita skol
 a den 15 augusti. Vi tävlar på rak bana och längdhopp\, klockan 10.00 -
  ca17.00.  Arrangör Sörmlands Kaninhoppare
LOCATION:Julita skola\, Skolvägen 3\,  Julita\, Sörmland\, 643 60\, Sveri
 ge
X-APPLE-STRUCTURED-LOCATION;VALUE=URI;X-ADDRESS=Skolvägen 3\,  Julita\, S
 örmland\, 643 60\, Sverige;X-APPLE-RADIUS=100;X-TITLE=Julita skola:geo:0,
 0
END:VEVENT
BEGIN:VTIMEZONE
TZID:Europe/Stockholm
X-LIC-LOCATION:Europe/Stockholm
BEGIN:DAYLIGHT
DTSTART:20260329T030000
TZOFFSETFROM:+0100
TZOFFSETTO:+0200
TZNAME:CEST
END:DAYLIGHT
END:VTIMEZONE
END:VCALENDAR