BEGIN:VCALENDAR
VERSION:2.0
PRODID:-//wp-events-plugin.com//7.2.3.1//EN
TZID:Europe/Stockholm
X-WR-TIMEZONE:Europe/Stockholm
BEGIN:VEVENT
UID:271@julitasockenrad.se
DTSTART;TZID=Europe/Stockholm:20260829T100000
DTEND;TZID=Europe/Stockholm:20260829T160000
DTSTAMP:20260420T194158Z
URL:https://www.julitasockenrad.se/evenemang/kaninhoppningstavling-den-29-
 augusti/
SUMMARY:Kaninhoppningstävling den 29 augusti
DESCRIPTION:Välkommen att titta på kaninhoppningstävling vid Julita skol
 a den 29 augusti. Vi tävlar på krokig bana klockan 10.00 - ca16.00\n\nId
 ag tävlar vi även i Lilla Skutt där man inte behöver vara medlem för 
 att få deltaga. Då har banan 6 hinder som får vara max 20 cm höga och 
 40 cm långa. Dessa kaniner får hoppa två omgångar och alla får pris. 
 Kostnad 20 kr per kanin. Anmäl dig och din kanin på mail till anmalan.so
 rmland@live.se  senast den 22 augusti. Vill du inte tävla kan du ändå 
 komma med din kanin och öva hoppning på banan.\n\nArrangör Sörmlands K
 aninhoppare
LOCATION:Julita skola\, Skolvägen 3\,  Julita\, Sörmland\, 643 60\, Sveri
 ge
X-APPLE-STRUCTURED-LOCATION;VALUE=URI;X-ADDRESS=Skolvägen 3\,  Julita\, S
 örmland\, 643 60\, Sverige;X-APPLE-RADIUS=100;X-TITLE=Julita skola:geo:0,
 0
END:VEVENT
BEGIN:VTIMEZONE
TZID:Europe/Stockholm
X-LIC-LOCATION:Europe/Stockholm
BEGIN:DAYLIGHT
DTSTART:20260329T030000
TZOFFSETFROM:+0100
TZOFFSETTO:+0200
TZNAME:CEST
END:DAYLIGHT
END:VTIMEZONE
END:VCALENDAR